BEGIN:VCALENDAR
PRODID:http://wibix.de/infusions/pro_download_panel/download.php?did=27
VERSION:2.0
METHOD:PUBLISH
BEGIN:VEVENT
DTSTART:20091020T220000Z
UID:10@http://www.mat-fiz.eu/
DTSTAMP:20091019T194904Z
DESCRIPTION:Informatyka - sprawdzian (grupa II)
SUMMARY:Informatyka - sprawdzian (grupa II)
CLASS:PUBLIC
END:VEVENT
END:VCALENDAR
