BEGIN:VCALENDAR
PRODID:http://wibix.de/infusions/pro_download_panel/download.php?did=27
VERSION:2.0
METHOD:PUBLISH
BEGIN:VEVENT
DTSTART:20101011T220000Z
UID:124@http://www.mat-fiz.eu/
DTSTAMP:20100922T173830Z
DESCRIPTION:Biologia - praca klasowa
SUMMARY:Biologia - praca klasowa
CLASS:PUBLIC
END:VEVENT
END:VCALENDAR
