BEGIN:VCALENDAR
PRODID:http://wibix.de/infusions/pro_download_panel/download.php?did=27
VERSION:2.0
METHOD:PUBLISH
BEGIN:VEVENT
DTSTART:20100923T220000Z
UID:127@http://www.mat-fiz.eu/
DTSTAMP:20100924T154802Z
DESCRIPTION:Impreza klasowa
SUMMARY:Impreza klasowa
CLASS:PUBLIC
END:VEVENT
END:VCALENDAR
