BEGIN:VCALENDAR
PRODID:http://wibix.de/infusions/pro_download_panel/download.php?did=27
VERSION:2.0
METHOD:PUBLISH
BEGIN:VEVENT
DTSTART:20101027T220000Z
UID:130@http://www.mat-fiz.eu/
DTSTAMP:20100929T134352Z
DESCRIPTION:PO - sprawdzian
SUMMARY:PO - sprawdzian
CLASS:PUBLIC
END:VEVENT
END:VCALENDAR
