BEGIN:VCALENDAR
PRODID:http://wibix.de/infusions/pro_download_panel/download.php?did=27
VERSION:2.0
METHOD:PUBLISH
BEGIN:VEVENT
DTSTART:20101109T230000Z
UID:174@http://www.mat-fiz.eu/
DTSTAMP:20101101T123709Z
DESCRIPTION:Fizyka - praca klasowa
SUMMARY:Fizyka - praca klasowa
CLASS:PUBLIC
END:VEVENT
END:VCALENDAR
