BEGIN:VCALENDAR
PRODID:http://wibix.de/infusions/pro_download_panel/download.php?did=27
VERSION:2.0
METHOD:PUBLISH
BEGIN:VEVENT
DTSTART:20101221T230000Z
UID:199@http://www.mat-fiz.eu/
DTSTAMP:20101220T125846Z
DESCRIPTION:Wigilia klasowa
SUMMARY:Wigilia klasowa
CLASS:PUBLIC
END:VEVENT
END:VCALENDAR
