BEGIN:VCALENDAR
PRODID:http://wibix.de/infusions/pro_download_panel/download.php?did=27
VERSION:2.0
METHOD:PUBLISH
BEGIN:VEVENT
DTSTART:20110207T230000Z
UID:208@http://www.mat-fiz.eu/
DTSTAMP:20110201T130334Z
DESCRIPTION:Historia - praca klasowa
SUMMARY:Historia - praca klasowa
CLASS:PUBLIC
END:VEVENT
END:VCALENDAR
