BEGIN:VCALENDAR
PRODID:http://wibix.de/infusions/pro_download_panel/download.php?did=27
VERSION:2.0
METHOD:PUBLISH
BEGIN:VEVENT
DTSTART:20110327T220000Z
UID:234@http://www.mat-fiz.eu/
DTSTAMP:20110326T102125Z
DESCRIPTION:Geografia - praca klasowa
SUMMARY:Geografia - praca klasowa
CLASS:PUBLIC
END:VEVENT
END:VCALENDAR
