BEGIN:VCALENDAR
PRODID:http://wibix.de/infusions/pro_download_panel/download.php?did=27
VERSION:2.0
METHOD:PUBLISH
BEGIN:VEVENT
DTSTART:20110605T220000Z
UID:248@http://www.mat-fiz.eu/
DTSTAMP:20110605T204634Z
DESCRIPTION:J. angielski - sprawdzian
SUMMARY:J. angielski - sprawdzian
CLASS:PUBLIC
END:VEVENT
END:VCALENDAR
