BEGIN:VCALENDAR
PRODID:http://wibix.de/infusions/pro_download_panel/download.php?did=27
VERSION:2.0
METHOD:PUBLISH
BEGIN:VEVENT
DTSTART:20120205T230000Z
UID:303@http://www.mat-fiz.eu/
DTSTAMP:20111220T112526Z
DESCRIPTION:Ferie zimowe
SUMMARY:Ferie zimowe
CLASS:PUBLIC
END:VEVENT
END:VCALENDAR
