BEGIN:VCALENDAR
PRODID:http://wibix.de/infusions/pro_download_panel/download.php?did=27
VERSION:2.0
METHOD:PUBLISH
BEGIN:VEVENT
DTSTART:20120108T230000Z
UID:314@http://www.mat-fiz.eu/
DTSTAMP:20120102T125321Z
DESCRIPTION:J. angielski - sprawdzian
SUMMARY:J. angielski - sprawdzian
CLASS:PUBLIC
END:VEVENT
END:VCALENDAR
