BEGIN:VCALENDAR
PRODID:http://wibix.de/infusions/pro_download_panel/download.php?did=27
VERSION:2.0
METHOD:PUBLISH
BEGIN:VEVENT
DTSTART:20120119T230000Z
UID:318@http://www.mat-fiz.eu/
DTSTAMP:20120112T184954Z
DESCRIPTION:Geografia - praca klasowa
SUMMARY:Geografia - praca klasowa
CLASS:PUBLIC
END:VEVENT
END:VCALENDAR
