BEGIN:VCALENDAR
PRODID:http://wibix.de/infusions/pro_download_panel/download.php?did=27
VERSION:2.0
METHOD:PUBLISH
BEGIN:VEVENT
DTSTART:20120220T230000Z
UID:329@http://www.mat-fiz.eu/
DTSTAMP:20120220T154217Z
DESCRIPTION:J. polski - sprawdzian
SUMMARY:J. polski - sprawdzian
CLASS:PUBLIC
END:VEVENT
END:VCALENDAR
