BEGIN:VCALENDAR
PRODID:http://wibix.de/infusions/pro_download_panel/download.php?did=27
VERSION:2.0
METHOD:PUBLISH
BEGIN:VEVENT
DTSTART:20120304T230000Z
UID:339@http://www.mat-fiz.eu/
DTSTAMP:20120302T152026Z
DESCRIPTION:Rekolekcje wielkopostne
SUMMARY:Rekolekcje wielkopostne
CLASS:PUBLIC
END:VEVENT
END:VCALENDAR
