BEGIN:VCALENDAR
PRODID:http://wibix.de/infusions/pro_download_panel/download.php?did=27
VERSION:2.0
METHOD:PUBLISH
BEGIN:VEVENT
DTSTART:20120526T220000Z
UID:353@http://www.mat-fiz.eu/
DTSTAMP:20120526T215238Z
DESCRIPTION:Biwak klasowy
SUMMARY:Biwak klasowy
CLASS:PUBLIC
END:VEVENT
END:VCALENDAR
