BEGIN:VCALENDAR
PRODID:http://wibix.de/infusions/pro_download_panel/download.php?did=27
VERSION:2.0
METHOD:PUBLISH
BEGIN:VEVENT
DTSTART:20091221T230000Z
UID:49@http://www.mat-fiz.eu/
DTSTAMP:20091217T192014Z
DESCRIPTION:Jasełka (MGOK)
SUMMARY:Jasełka (MGOK)
CLASS:PUBLIC
END:VEVENT
END:VCALENDAR
