BEGIN:VCALENDAR
PRODID:http://wibix.de/infusions/pro_download_panel/download.php?did=27
VERSION:2.0
METHOD:PUBLISH
BEGIN:VEVENT
DTSTART:20100110T230000Z
UID:50@http://www.mat-fiz.eu/
DTSTAMP:20091228T100653Z
DESCRIPTION:J. polski - praca klasowa
SUMMARY:J. polski - praca klasowa
CLASS:PUBLIC
END:VEVENT
END:VCALENDAR
