BEGIN:VCALENDAR
PRODID:http://wibix.de/infusions/pro_download_panel/download.php?did=27
VERSION:2.0
METHOD:PUBLISH
BEGIN:VEVENT
DTSTART:20100329T220000Z
UID:79@http://www.mat-fiz.eu/
DTSTAMP:20100329T153358Z
DESCRIPTION:Rekolekcje wielkopostne
SUMMARY:Rekolekcje wielkopostne
CLASS:PUBLIC
END:VEVENT
END:VCALENDAR
