BEGIN:VCALENDAR
PRODID:http://wibix.de/infusions/pro_download_panel/download.php?did=27
VERSION:2.0
METHOD:PUBLISH
BEGIN:VEVENT
DTSTART:20100415T220000Z
UID:82@http://www.mat-fiz.eu/
DTSTAMP:20100330T124709Z
DESCRIPTION:Historia - praca klasowa
SUMMARY:Historia - praca klasowa
CLASS:PUBLIC
END:VEVENT
END:VCALENDAR
