BEGIN:VCALENDAR
PRODID:http://wibix.de/infusions/pro_download_panel/download.php?did=27
VERSION:2.0
METHOD:PUBLISH
BEGIN:VEVENT
DTSTART:20100429T220000Z
UID:92@http://www.mat-fiz.eu/
DTSTAMP:20100421T182656Z
DESCRIPTION:Matfizowy Grill
SUMMARY:Matfizowy Grill
CLASS:PUBLIC
END:VEVENT
END:VCALENDAR
